BEGIN:VCALENDAR
VERSION:2.0
PRODID:-//Budde-Haus Leipzig - ECPv6.15.20//NONSGML v1.0//EN
CALSCALE:GREGORIAN
METHOD:PUBLISH
X-WR-CALNAME:Budde-Haus Leipzig
X-ORIGINAL-URL:https://www.budde-haus.de
X-WR-CALDESC:Veranstaltungen für Budde-Haus Leipzig
REFRESH-INTERVAL;VALUE=DURATION:PT1H
X-Robots-Tag:noindex
X-PUBLISHED-TTL:PT1H
BEGIN:VTIMEZONE
TZID:Europe/Berlin
BEGIN:DAYLIGHT
TZOFFSETFROM:+0100
TZOFFSETTO:+0200
TZNAME:CEST
DTSTART:20180325T010000
END:DAYLIGHT
BEGIN:STANDARD
TZOFFSETFROM:+0200
TZOFFSETTO:+0100
TZNAME:CET
DTSTART:20181028T010000
END:STANDARD
BEGIN:DAYLIGHT
TZOFFSETFROM:+0100
TZOFFSETTO:+0200
TZNAME:CEST
DTSTART:20190331T010000
END:DAYLIGHT
BEGIN:STANDARD
TZOFFSETFROM:+0200
TZOFFSETTO:+0100
TZNAME:CET
DTSTART:20191027T010000
END:STANDARD
BEGIN:DAYLIGHT
TZOFFSETFROM:+0100
TZOFFSETTO:+0200
TZNAME:CEST
DTSTART:20200329T010000
END:DAYLIGHT
BEGIN:STANDARD
TZOFFSETFROM:+0200
TZOFFSETTO:+0100
TZNAME:CET
DTSTART:20201025T010000
END:STANDARD
END:VTIMEZONE
BEGIN:VEVENT
DTSTART;TZID=Europe/Berlin:20190612T190000
DTEND;TZID=Europe/Berlin:20190612T210000
DTSTAMP:20260421T113703
CREATED:20190519T133712Z
LAST-MODIFIED:20200814T083053Z
UID:1870-1560366000-1560373200@www.budde-haus.de
SUMMARY:Leipziger Erzählabend
DESCRIPTION:Wie uns der Schnabel gewachsen ist\n \nKommt\, lauscht und lasst euch verzaubern! Leipziger Erzählerinnen und Erzähler laden ein zu einem Abend im Salon des Budde-Hauses voll mit Geschichten\, Märchen\, Mythen\, Erlebtem und Erfundenem. Alles ist möglich. Jeder kann selbst die „Bühne“ nutzen. \nNähere Infos: Maria Carmela Marinelli\, 0172 6151063\, mcmarinelli@gmail.com \nWegen begrenzter Platzkapazitäten wird um Anmeldung gebeten: Telefon 0341 90960037\,  ticket@budde-haus.de \nEintritt frei. Spenden erwünscht. \n  \n\nBudde-Haus gefällt mir: https://www.facebook.com/Budde.Haus.Soziokulturelles.Zentrum.Leipzig.Gohlis/ \nBetreiber des Budde-Hauses ist der FAIRbund e. V. –  www.verein-fairbund.de \nTags: Veranstaltung Leipzig\, Budde-Haus\, Soziokultur Leipzig\, Veranstaltung Gohlis\, Erzählabend\, Märchen\, Mythen\,Geschichten erzählen
URL:https://www.budde-haus.de/veranstaltungen/leipziger-erzaehlabend/
LOCATION:Budde-Haus\, Lützowstraße 19\, Leipzig\, Sachsen\, 04157\, Deutschland
END:VEVENT
BEGIN:VEVENT
DTSTART;TZID=Europe/Berlin:20190410T190000
DTEND;TZID=Europe/Berlin:20190410T210000
DTSTAMP:20260421T113703
CREATED:20190301T152507Z
LAST-MODIFIED:20200814T085631Z
UID:1584-1554922800-1554930000@www.budde-haus.de
SUMMARY:Leipziger Erzählabend
DESCRIPTION:Wie uns der Schnabel gewachsen ist\n \nKommt\, lauscht und lasst euch verzaubern! Leipziger Erzählerinnen und Erzähler laden ein zu einem Abend im Salon des Budde-Hauses voll mit Geschichten\, Märchen\, Mythen\, Erlebtem und Erfundenem. Alles ist möglich. \nNächster Termin: Mittwoch\, 12. Juni 2019\, 19.00 Uhr \nNähere Infos: Maria Carmela Marinelli\, 0172 6151063\, mcmarinelli@gmail.com \nWegen begrenzter Platzkapazitäten wird um Anmeldung gebeten: Telefon 0341 90960037\,  ticket@budde-haus.de \nEintritt frei – Spenden wilkommen.\n \n  \n\nBudde-Haus gefällt mir: https://www.facebook.com/Budde.Haus.Soziokulturelles.Zentrum.Leipzig.Gohlis/ \nBetreiber des Budde-Hauses ist der FAIRbund e. V. –  www.verein-fairbund.de \nTags: Veranstaltung Leipzig\, Budde-Haus\, Soziokultur Leipzig\, Veranstaltung Gohlis\, Erzählabend\, Märchen\, Mythen\,Geschichten erzählen
URL:https://www.budde-haus.de/veranstaltungen/buehne-frei/
LOCATION:Sachsen
ATTACH;FMTTYPE=image/jpeg:https://www.budde-haus.de/wp-content/uploads/2019/03/Budde_Erzählabend2.jpg
END:VEVENT
BEGIN:VEVENT
DTSTART;TZID=Europe/Berlin:20190323T200000
DTEND;TZID=Europe/Berlin:20190323T223000
DTSTAMP:20260421T113703
CREATED:20190124T124044Z
LAST-MODIFIED:20200814T091416Z
UID:1364-1553371200-1553380200@www.budde-haus.de
SUMMARY:2. Nacht der Leipziger Märchenerzähler*innen
DESCRIPTION:Von Liebe\, Tod und Teufel und ein bisschen Glück\n \nMärchenerzählen ist seit 2016 von der deutschen UNESCO-Kommission als immaterielles Kulturerbe anerkannt. Denn Märchen haben in jeder Hinsicht verbindenden Charakter: Lebendiges Erzählen lässt Menschen beim Zuhören auf besondere Weise Gemeinschaft erleben. \n  \nSieben professionelle Leipziger Märchenerzähler*innen gestalten zum zweiten Mal eine vergnügliche wie spannende Erzählnacht im wunderschönen Ambiente des Budde-Hauses. Die Märchen und Geschichten\, die sie frei vortragen\, sind so verschieden wie ihre Art und Weise des Erzählens. \nEs erzählen: Peggy Burian\, Susanne Karge\, Maria Carmela Marinelli\, Angelika Tilsner\, Regina Vitzthum\, Patrick Niegsch\, Detlef Vitzthum \n  \nMusik: Judith Kellner (Saxophon)\nModeration: Maren Uhlig \nLaben: Kleines Buffet der 13. Fee \nEintritt: 15\,-/12\,- Euro\, inkl. Buffet \nKartenreservierungen: ausverkauft! \n\n  \nBudde-Haus gefällt mir:\nhttps://www.facebook.com/Budde.Haus.Soziokulturelles.Zentrum.Leipzig.Gohlis/\n\nBetreiber des Budde-Hauses ist der FAIRbund e. V. – www.verein-fairbund.de \nTags: Veranstaltung Leipzig\, Budde-Haus\, Soziokultur Leipzig\, Veranstaltung Gohlis\,  Märchenerzählen\, Geschichten erzählen
URL:https://www.budde-haus.de/veranstaltungen/2-nacht-der-leipziger-maerchenerzaehlerinnen/
LOCATION:Budde-Haus\, Lützowstraße 19\, Leipzig\, Sachsen\, 04157\, Deutschland
ORGANIZER;CN="Budde-Haus - FAIRbund e. V.":MAILTO:ticket@budde-haus.de
END:VEVENT
END:VCALENDAR